BEGIN:VCALENDAR
VERSION:2.0
PRODID:SchoolNow
CALSCALE:GREGORIAN
BEGIN:VEVENT
UID:7eb2b172-bc11-11ef-85ba-0affe9788961
DTSTAMP:20241217T005439Z
SUMMARY:Yoga - Jan 7th
LOCATION:Nature Center
URL;VALUE=URI:https://www.wildernesslakecdd.org/calendar/7184079/yoga-jan-7
 th
DTSTART:20241216T134000Z
DTEND:20241216T154500Z
END:VEVENT
END:VCALENDAR
