BEGIN:VCALENDAR
VERSION:2.0
PRODID:SchoolNow
CALSCALE:GREGORIAN
BEGIN:VEVENT
UID:41fd3be4-bc11-11ef-a90b-02a51d0d39ed
DTSTAMP:20241217T005257Z
SUMMARY:PJ'S\, S'mores\, Hot Cocoa - Jan. 4th
LOCATION:Fire pit
URL;VALUE=URI:https://www.wildernesslakecdd.org/calendar/7184078/pjs-s-more
 s-hot-cocoa-jan-4th
DTSTART:20250104T230000Z
DTEND:20250105T000000Z
END:VEVENT
END:VCALENDAR
