BEGIN:VCALENDAR
VERSION:2.0
PRODID:SchoolNow
CALSCALE:GREGORIAN
BEGIN:VEVENT
UID:c4725dbc-bc10-11ef-aa59-0a58a9feac02
DTSTAMP:20241217T004927Z
SUMMARY:Pickleball Tournament - Dec. 29th
LOCATION:Tennis Courts
URL;VALUE=URI:https://www.wildernesslakecdd.org/calendar/7184077/pickleball
 -tournament-dec-29th
DTSTART:20241229T160000Z
DTEND:20241229T170000Z
END:VEVENT
END:VCALENDAR
