BEGIN:VCALENDAR
VERSION:2.0
PRODID:SchoolNow
CALSCALE:GREGORIAN
BEGIN:VEVENT
UID:80fbc64a-bc10-11ef-9bee-0a58a9feac02
DTSTAMP:20241217T004734Z
SUMMARY:Walking - Jan. 10th
URL;VALUE=URI:https://www.wildernesslakecdd.org/calendar/7184076/walking-ja
 n-10th
DTSTART:20250110T143000Z
DTEND:20250110T154500Z
END:VEVENT
END:VCALENDAR
