BEGIN:VCALENDAR
VERSION:2.0
PRODID:SchoolNow
CALSCALE:GREGORIAN
BEGIN:VEVENT
UID:3094c4ea-bc10-11ef-86cc-0a58a9feac02
DTSTAMP:20241217T004519Z
SUMMARY:Snowball Extravaganza - Jan. 3rd
LOCATION:Front of Activities Center
URL;VALUE=URI:https://www.wildernesslakecdd.org/calendar/7183026/snowball-e
 xtravaganza-jan-3rd
DTSTART:20250103T210000Z
DTEND:20250103T220000Z
END:VEVENT
END:VCALENDAR
