BEGIN:VCALENDAR
VERSION:2.0
PRODID:SchoolNow
CALSCALE:GREGORIAN
BEGIN:VEVENT
UID:ca99ca8c-bc0f-11ef-aa01-0e2b6da6ea51
DTSTAMP:20241217T004228Z
SUMMARY:Yoga - Jan. 9th
LOCATION:Activities Center
URL;VALUE=URI:https://www.wildernesslakecdd.org/calendar/7183024/yoga-jan-9
 th
DTSTART:20250109T134000Z
DTEND:20250109T154500Z
END:VEVENT
END:VCALENDAR
