BEGIN:VCALENDAR
VERSION:2.0
PRODID:SchoolNow
CALSCALE:GREGORIAN
BEGIN:VEVENT
UID:a44d1028-bc0f-11ef-b6cf-0a58a9feac02
DTSTAMP:20241217T004123Z
SUMMARY:Law Enforcement Appreciation Day - Jan. 9th
URL;VALUE=URI:https://www.wildernesslakecdd.org/calendar/7183023/law-enforc
 ement-appreciation-day-jan-9th
DTSTART:20250109T140000Z
DTEND:20250109T200000Z
END:VEVENT
END:VCALENDAR
