BEGIN:VCALENDAR
VERSION:2.0
PRODID:SchoolNow
CALSCALE:GREGORIAN
BEGIN:VEVENT
UID:48e2b04e-bc0f-11ef-a615-0affe9788961
DTSTAMP:20241217T003850Z
SUMMARY:Story Time - Jan. 6th
LOCATION:Nature Center
URL;VALUE=URI:https://www.wildernesslakecdd.org/calendar/7183020/story-time
 -jan-6th
DTSTART:20250106T150000Z
DTEND:20250106T160000Z
END:VEVENT
END:VCALENDAR
