BEGIN:VCALENDAR
VERSION:2.0
PRODID:SchoolNow
CALSCALE:GREGORIAN
BEGIN:VEVENT
UID:129e5150-bc0f-11ef-9770-0affe9788961
DTSTAMP:20241217T003719Z
SUMMARY:Yoga - Jan. 14th
LOCATION:Nature Center
URL;VALUE=URI:https://www.wildernesslakecdd.org/calendar/7183019/yoga-jan-1
 4th
DTSTART:20250114T134000Z
DTEND:20250114T154500Z
END:VEVENT
END:VCALENDAR
