BEGIN:VCALENDAR
VERSION:2.0
PRODID:SchoolNow
CALSCALE:GREGORIAN
BEGIN:VEVENT
UID:ceecfb28-bc0e-11ef-a316-02e2c7d15fe9
DTSTAMP:20241217T003525Z
SUMMARY:ARC Mtg - Jan. 13th
LOCATION:Activities Center
URL;VALUE=URI:https://www.wildernesslakecdd.org/calendar/7183018/arc-mtg-ja
 n-13th
DTSTART:20250113T233000Z
DTEND:20250114T003000Z
END:VEVENT
END:VCALENDAR
