BEGIN:VCALENDAR
VERSION:2.0
PRODID:SchoolNow
CALSCALE:GREGORIAN
BEGIN:VEVENT
UID:a49bdbdc-bc0e-11ef-8e9f-0a58a9feac02
DTSTAMP:20241217T003414Z
SUMMARY:Story Time - Jan. 13th
LOCATION:Nature Center
URL;VALUE=URI:https://www.wildernesslakecdd.org/calendar/7183013/story-time
 -jan-13th
DTSTART:20250113T150000Z
DTEND:20250113T160000Z
END:VEVENT
END:VCALENDAR
