BEGIN:VCALENDAR
VERSION:2.0
PRODID:SchoolNow
CALSCALE:GREGORIAN
BEGIN:VEVENT
UID:6eeb5670-bc0e-11ef-bbe8-0a58a9feac02
DTSTAMP:20241217T003244Z
SUMMARY:Walking - Jan. 3rd
LOCATION:Activities Center
URL;VALUE=URI:https://www.wildernesslakecdd.org/calendar/7183012/walking-ja
 n-3rd
DTSTART:20250103T143000Z
DTEND:20250103T154500Z
END:VEVENT
END:VCALENDAR
