BEGIN:VCALENDAR
VERSION:2.0
PRODID:SchoolNow
CALSCALE:GREGORIAN
BEGIN:VEVENT
UID:e0b1e978-bc0d-11ef-aba6-0a58a9feac02
DTSTAMP:20241217T002846Z
SUMMARY:Yoga -Jan. 2nd
LOCATION:Activity Center
URL;VALUE=URI:https://www.wildernesslakecdd.org/calendar/7183011/yoga-jan-2
 nd
DTSTART:20250102T134000Z
DTEND:20250102T164500Z
END:VEVENT
END:VCALENDAR
