BEGIN:VCALENDAR
VERSION:2.0
PRODID:SchoolNow
CALSCALE:GREGORIAN
BEGIN:VEVENT
UID:27df3532-bc0c-11ef-b9a9-0a58a9feac02
DTSTAMP:20241217T001626Z
SUMMARY:Story Time - Dec.30th
LOCATION:Nature Center
URL;VALUE=URI:https://www.wildernesslakecdd.org/calendar/7183006/story-time
 -dec-30th
DTSTART:20241230T150000Z
DTEND:20241230T160000Z
END:VEVENT
END:VCALENDAR
