BEGIN:VCALENDAR
VERSION:2.0
PRODID:SchoolNow
CALSCALE:GREGORIAN
BEGIN:VEVENT
UID:54f41c34-bc09-11ef-836a-025741e8dd3d
DTSTAMP:20241216T235613Z
SUMMARY:Lodge Hours - Dec. 26th
URL;VALUE=URI:https://www.wildernesslakecdd.org/calendar/7182960/lodge-hour
 s-dec-26th
DTSTART:20241227T170000Z
DTEND:20241228T020000Z
END:VEVENT
END:VCALENDAR
