BEGIN:VCALENDAR
VERSION:2.0
PRODID:SchoolNow
CALSCALE:GREGORIAN
BEGIN:VEVENT
UID:f52a5b2e-bc08-11ef-900e-0a58a9feac02
DTSTAMP:20241216T235427Z
SUMMARY:Lodge Hours - Dec. 24th
URL;VALUE=URI:https://www.wildernesslakecdd.org/calendar/7182959/lodge-hour
 s-dec-24th
DTSTART;VALUE=DATE:20241224
DTEND;VALUE=DATE:20241225
END:VEVENT
END:VCALENDAR
