BEGIN:VCALENDAR
VERSION:2.0
PRODID:SchoolNow
CALSCALE:GREGORIAN
BEGIN:VEVENT
UID:89066fe6-bc08-11ef-a08c-0a58a9feac02
DTSTAMP:20241216T235031Z
SUMMARY:Yoga - Dec. 24th
URL;VALUE=URI:https://www.wildernesslakecdd.org/calendar/7182958/yoga-dec-2
 4th
DTSTART:20241224T134000Z
DTEND:20241224T164500Z
END:VEVENT
END:VCALENDAR
