BEGIN:VCALENDAR
VERSION:2.0
PRODID:SchoolNow
CALSCALE:GREGORIAN
BEGIN:VEVENT
UID:12234aa2-bc08-11ef-88a8-0a58a9feac02
DTSTAMP:20241216T234712Z
SUMMARY:Yoga - Dec. 19th
URL;VALUE=URI:https://www.wildernesslakecdd.org/calendar/7182957/yoga-dec-1
 9th
DTSTART:20241219T134000Z
DTEND:20241219T164500Z
END:VEVENT
END:VCALENDAR
