BEGIN:VCALENDAR
VERSION:2.0
PRODID:SchoolNow
CALSCALE:GREGORIAN
BEGIN:VEVENT
UID:cf13e3c0-bc07-11ef-a9da-02ba691918f5
DTSTAMP:20241216T234519Z
SUMMARY:Walking - Dec. 18th
URL;VALUE=URI:https://www.wildernesslakecdd.org/calendar/7182956/walking-de
 c-18th
DTSTART:20241218T143000Z
DTEND:20241218T153000Z
END:VEVENT
END:VCALENDAR
