BEGIN:VCALENDAR
VERSION:2.0
PRODID:SchoolNow
CALSCALE:GREGORIAN
BEGIN:VEVENT
UID:88ba3e4c-bc07-11ef-b2cb-0a58a9feac02
DTSTAMP:20241216T234321Z
SUMMARY:Yoga - Dec.17th
LOCATION:Nature Center
URL;VALUE=URI:https://www.wildernesslakecdd.org/calendar/7182955/yoga-dec-1
 7th
DTSTART:20241217T134000Z
DTEND:20241217T160000Z
END:VEVENT
END:VCALENDAR
