BEGIN:VCALENDAR
VERSION:2.0
PRODID:SchoolNow
CALSCALE:GREGORIAN
BEGIN:VEVENT
UID:f67928b0-b0e7-11ef-b5c8-02be1564d943
DTSTAMP:20241202T195939Z
SUMMARY:Yoga - Dec. 5th
LOCATION:Activities Center
URL;VALUE=URI:https://www.wildernesslakecdd.org/calendar/7110465/yoga-dec-5
 th
DTSTART:20241205T134000Z
DTEND:20241205T154500Z
END:VEVENT
END:VCALENDAR
