BEGIN:VCALENDAR
VERSION:2.0
PRODID:SchoolNow
CALSCALE:GREGORIAN
BEGIN:VEVENT
UID:be8b1cec-b0e7-11ef-b1a1-0230b0a7418d
DTSTAMP:20241202T195805Z
SUMMARY:Hoops & Scoops -Dec. 14th
LOCATION:Basketball Court
URL;VALUE=URI:https://www.wildernesslakecdd.org/calendar/7110464/hoops-scoo
 ps-dec-14th
DTSTART:20241214T210000Z
DTEND:20241214T220000Z
END:VEVENT
END:VCALENDAR
