BEGIN:VCALENDAR
VERSION:2.0
PRODID:SchoolNow
CALSCALE:GREGORIAN
BEGIN:VEVENT
UID:80dd62ec-b0e7-11ef-a185-0a58a9feac02
DTSTAMP:20241202T195621Z
SUMMARY:Yoga - Dec. 3rd
URL;VALUE=URI:https://www.wildernesslakecdd.org/calendar/7110463/yoga-dec-3
 rd
DTSTART:20241203T134000Z
DTEND:20241203T154500Z
END:VEVENT
END:VCALENDAR
