BEGIN:VCALENDAR
VERSION:2.0
PRODID:SchoolNow
CALSCALE:GREGORIAN
BEGIN:VEVENT
UID:cac6e46a-b0e6-11ef-8972-0a58a9feac02
DTSTAMP:20241202T195322Z
SUMMARY:Food Truck - Dec.4th
URL;VALUE=URI:https://www.wildernesslakecdd.org/calendar/7110457/sants-arri
 val-dec-7th
DTSTART:20241204T220000Z
DTEND:20241205T000000Z
END:VEVENT
END:VCALENDAR
