BEGIN:VCALENDAR
VERSION:2.0
PRODID:SchoolNow
CALSCALE:GREGORIAN
BEGIN:VEVENT
UID:5f405894-a2a3-11ef-9779-0a58a9feac02
DTSTAMP:20241114T161323Z
SUMMARY:Walking - Nov. 15th
URL;VALUE=URI:https://www.wildernesslakecdd.org/calendar/7020396/walking-no
 v-15th
DTSTART:20241115T140000Z
DTEND:20241115T150000Z
END:VEVENT
END:VCALENDAR
