BEGIN:VCALENDAR
VERSION:2.0
PRODID:SchoolNow
CALSCALE:GREGORIAN
BEGIN:VEVENT
UID:16bcb8ba-a2a3-11ef-ba8e-0affc2aa93c1
DTSTAMP:20241114T161121Z
SUMMARY:Rummikub - Nov.14th
URL;VALUE=URI:https://www.wildernesslakecdd.org/calendar/7020393/rummikub-n
 ov-14th
DTSTART:20241114T180000Z
DTEND:20241114T200000Z
END:VEVENT
END:VCALENDAR
