BEGIN:VCALENDAR
VERSION:2.0
PRODID:SchoolNow
CALSCALE:GREGORIAN
BEGIN:VEVENT
UID:c440b5f2-9e18-11ef-b22c-0ec2ddfbb079
DTSTAMP:20241108T213108Z
SUMMARY:Yoga - Nov. 28th
URL;VALUE=URI:https://www.wildernesslakecdd.org/calendar/6984831/yoga-nov-2
 8th
DTSTART:20241128T134000Z
DTEND:20241128T145500Z
END:VEVENT
END:VCALENDAR
