BEGIN:VCALENDAR
VERSION:2.0
PRODID:SchoolNow
CALSCALE:GREGORIAN
BEGIN:VEVENT
UID:89c740f8-9e18-11ef-a820-0a58a9feac02
DTSTAMP:20241108T212929Z
SUMMARY:Yoga - Nov. 21st
URL;VALUE=URI:https://www.wildernesslakecdd.org/calendar/6984830/yoga-nov-2
 1st
DTSTART:20241121T134000Z
DTEND:20241121T145500Z
END:VEVENT
END:VCALENDAR
