BEGIN:VCALENDAR
VERSION:2.0
PRODID:SchoolNow
CALSCALE:GREGORIAN
BEGIN:VEVENT
UID:3ba20dfe-9e18-11ef-aee0-0affd5c2892b
DTSTAMP:20241108T212718Z
SUMMARY:Water Aerobics - Nov. 22nd
URL;VALUE=URI:https://www.wildernesslakecdd.org/calendar/6984826/water-aero
 bics-nov-22nd
DTSTART:20241122T140000Z
DTEND:20241122T150000Z
END:VEVENT
END:VCALENDAR
