BEGIN:VCALENDAR
VERSION:2.0
PRODID:SchoolNow
CALSCALE:GREGORIAN
BEGIN:VEVENT
UID:06bdecd4-9e18-11ef-bec8-0ec2ddfbb079
DTSTAMP:20241108T212805Z
SUMMARY:Walking - Nov. 22nd
URL;VALUE=URI:https://www.wildernesslakecdd.org/calendar/6984824/walking-no
 v-22nd
DTSTART:20241122T143100Z
DTEND:20241122T154500Z
END:VEVENT
END:VCALENDAR
