BEGIN:VCALENDAR
VERSION:2.0
PRODID:SchoolNow
CALSCALE:GREGORIAN
BEGIN:VEVENT
UID:7ba2a02c-9e17-11ef-9ab2-0affc0917d8f
DTSTAMP:20241108T212156Z
SUMMARY:Cards - Nov. 27th
URL;VALUE=URI:https://www.wildernesslakecdd.org/calendar/6984823/cards-nov-
 27th
DTSTART:20241127T180000Z
DTEND:20241127T200000Z
END:VEVENT
END:VCALENDAR
