BEGIN:VCALENDAR
VERSION:2.0
PRODID:SchoolNow
CALSCALE:GREGORIAN
BEGIN:VEVENT
UID:62d227c0-9e17-11ef-990a-0affef516f3d
DTSTAMP:20241108T212115Z
SUMMARY:Cards - Nov. 20th
URL;VALUE=URI:https://www.wildernesslakecdd.org/calendar/6984822/cards-nov-
 20th
DTSTART:20241120T180000Z
DTEND:20241120T200000Z
END:VEVENT
END:VCALENDAR
