BEGIN:VCALENDAR
VERSION:2.0
PRODID:SchoolNow
CALSCALE:GREGORIAN
BEGIN:VEVENT
UID:3e7eb370-9e17-11ef-aca6-0a58a9feac02
DTSTAMP:20241108T212014Z
SUMMARY:Cards - Nov. 13th
URL;VALUE=URI:https://www.wildernesslakecdd.org/calendar/6984821/cards-nov-
 13th
DTSTART:20241113T180000Z
DTEND:20241113T200000Z
END:VEVENT
END:VCALENDAR
