BEGIN:VCALENDAR
VERSION:2.0
PRODID:SchoolNow
CALSCALE:GREGORIAN
BEGIN:VEVENT
UID:ff748d1c-9e16-11ef-84e9-0affef277ea9
DTSTAMP:20241108T211828Z
SUMMARY:Cards - Nov. 6th
URL;VALUE=URI:https://www.wildernesslakecdd.org/calendar/6984820/cards-nov-
 6th
DTSTART:20241106T180000Z
DTEND:20241106T200000Z
END:VEVENT
END:VCALENDAR
