BEGIN:VCALENDAR
VERSION:2.0
PRODID:SchoolNow
CALSCALE:GREGORIAN
BEGIN:VEVENT
UID:ddb7c3a6-9e16-11ef-b040-0affdd576319
DTSTAMP:20241108T211731Z
SUMMARY:Mahjong - Nov. 25th
URL;VALUE=URI:https://www.wildernesslakecdd.org/calendar/6984819/mahjong-no
 v-25th
DTSTART:20241125T180000Z
DTEND:20241125T200000Z
END:VEVENT
END:VCALENDAR
