BEGIN:VCALENDAR
VERSION:2.0
PRODID:SchoolNow
CALSCALE:GREGORIAN
BEGIN:VEVENT
UID:a737cef2-9e16-11ef-8c13-0a58a9feac02
DTSTAMP:20241108T211600Z
SUMMARY:Mahjong - Nov. 18th
URL;VALUE=URI:https://www.wildernesslakecdd.org/calendar/6984818/mahjong-no
 v-18th
DTSTART:20241118T180000Z
DTEND:20241118T200000Z
END:VEVENT
END:VCALENDAR
