BEGIN:VCALENDAR
VERSION:2.0
PRODID:SchoolNow
CALSCALE:GREGORIAN
BEGIN:VEVENT
UID:6b12f208-9e16-11ef-a181-0a58a9feac02
DTSTAMP:20241108T211419Z
SUMMARY:Walking - Nov. 20th
URL;VALUE=URI:https://www.wildernesslakecdd.org/calendar/6984817/walking-no
 v-20th
DTSTART:20241120T143000Z
DTEND:20241120T154500Z
END:VEVENT
END:VCALENDAR
