BEGIN:VCALENDAR
VERSION:2.0
PRODID:SchoolNow
CALSCALE:GREGORIAN
BEGIN:VEVENT
UID:97660e3c-9e14-11ef-92be-0affc0917d8f
DTSTAMP:20241108T210114Z
SUMMARY:Mahjong - Nov. 11th
URL;VALUE=URI:https://www.wildernesslakecdd.org/calendar/6984813/mahjong-no
 v-11th
DTSTART:20241111T180000Z
DTEND:20241111T190000Z
END:VEVENT
END:VCALENDAR
