BEGIN:VCALENDAR
VERSION:2.0
PRODID:SchoolNow
CALSCALE:GREGORIAN
BEGIN:VEVENT
UID:e7fa93aa-9e13-11ef-9f3a-02bf63dc6269
DTSTAMP:20241108T205620Z
SUMMARY:Yoga - Nov. 19th
URL;VALUE=URI:https://www.wildernesslakecdd.org/calendar/6984812/yoga-nov-1
 9th
DTSTART:20241119T134000Z
DTEND:20241119T145500Z
END:VEVENT
END:VCALENDAR
