BEGIN:VCALENDAR
VERSION:2.0
PRODID:SchoolNow
CALSCALE:GREGORIAN
BEGIN:VEVENT
UID:60b06a4c-9e12-11ef-8411-0a58a9feac02
DTSTAMP:20241108T204524Z
SUMMARY:Water Aerobics - Nov. 15th
URL;VALUE=URI:https://www.wildernesslakecdd.org/calendar/6984807/water-aero
 bics-nov-15th
DTSTART:20241115T140000Z
DTEND:20241115T150000Z
END:VEVENT
END:VCALENDAR
