BEGIN:VCALENDAR
VERSION:2.0
PRODID:SchoolNow
CALSCALE:GREGORIAN
BEGIN:VEVENT
UID:aeff856c-9e11-11ef-b060-0a58a9feac02
DTSTAMP:20241108T204411Z
SUMMARY:Water Aerobics - Nov. 14th
URL;VALUE=URI:https://www.wildernesslakecdd.org/calendar/6984804/water-aero
 bics-nov-18th
DTSTART:20241114T140000Z
DTEND:20241114T150000Z
END:VEVENT
END:VCALENDAR
