BEGIN:VCALENDAR
VERSION:2.0
PRODID:SchoolNow
CALSCALE:GREGORIAN
BEGIN:VEVENT
UID:7097780c-9e11-11ef-9899-0e9bf9889633
DTSTAMP:20241108T212246Z
SUMMARY:Walking - Nov. 18th
URL;VALUE=URI:https://www.wildernesslakecdd.org/calendar/6984803/walking-no
 v-18th
DTSTART:20241118T143000Z
DTEND:20241118T154500Z
END:VEVENT
END:VCALENDAR
