BEGIN:VCALENDAR
VERSION:2.0
PRODID:SchoolNow
CALSCALE:GREGORIAN
BEGIN:VEVENT
UID:5a0f590e-9dff-11ef-ae33-0a58a9feac02
DTSTAMP:20241108T182955Z
SUMMARY:Yoga - Nov. 14th
URL;VALUE=URI:https://www.wildernesslakecdd.org/calendar/6984782/yoga-nov-1
 4th
DTSTART:20241115T014000Z
DTEND:20241115T025500Z
END:VEVENT
END:VCALENDAR
