BEGIN:VCALENDAR
VERSION:2.0
PRODID:SchoolNow
CALSCALE:GREGORIAN
BEGIN:VEVENT
UID:29a92eac-9dff-11ef-a04e-02c3961b783b
DTSTAMP:20241108T182751Z
SUMMARY:Water Aerobics - Nov. 112th
URL;VALUE=URI:https://www.wildernesslakecdd.org/calendar/6984781/water-aero
 bics-nov-112th
DTSTART:20241112T140000Z
DTEND:20241112T150000Z
END:VEVENT
END:VCALENDAR
