BEGIN:VCALENDAR
VERSION:2.0
PRODID:SchoolNow
CALSCALE:GREGORIAN
BEGIN:VEVENT
UID:e2af4220-9d54-11ef-ac84-0a58a9feac02
DTSTAMP:20241107T220857Z
SUMMARY:Water Aerobics - Nov. 20th
URL;VALUE=URI:https://www.wildernesslakecdd.org/calendar/6978855/water-aero
 bics-nov-20th
DTSTART:20241120T140000Z
DTEND:20241120T150000Z
END:VEVENT
END:VCALENDAR
