BEGIN:VCALENDAR
VERSION:2.0
PRODID:SchoolNow
CALSCALE:GREGORIAN
BEGIN:VEVENT
UID:aed9c47a-9d54-11ef-aeee-0a58a9feac02
DTSTAMP:20241108T204151Z
SUMMARY:Water Aerobics - Nov. 19th
URL;VALUE=URI:https://www.wildernesslakecdd.org/calendar/6978854/water-aero
 bics-nov-19th
DTSTART:20241119T140000Z
DTEND:20241119T150000Z
END:VEVENT
END:VCALENDAR
