BEGIN:VCALENDAR
VERSION:2.0
PRODID:SchoolNow
CALSCALE:GREGORIAN
BEGIN:VEVENT
UID:1be070b0-9d54-11ef-95d6-0ebbf1049677
DTSTAMP:20241107T220324Z
SUMMARY:National Hot Chocolate Day - Jan. 31st
URL;VALUE=URI:https://www.wildernesslakecdd.org/calendar/6978851/national-h
 ot-chocolate-day-jan-31st
DTSTART:20250201T000000Z
DTEND:20250201T010000Z
END:VEVENT
END:VCALENDAR
