BEGIN:VCALENDAR
VERSION:2.0
PRODID:SchoolNow
CALSCALE:GREGORIAN
BEGIN:VEVENT
UID:a646f7de-9d53-11ef-8944-0a58a9feac02
DTSTAMP:20241107T220006Z
SUMMARY:Ladies Night - Jan. 24th
LOCATION:Activities Center
URL;VALUE=URI:https://www.wildernesslakecdd.org/calendar/6978843/ladies-nig
 ht-jan-24th
DTSTART:20250124T230000Z
DTEND:20250125T010000Z
END:VEVENT
END:VCALENDAR
