BEGIN:VCALENDAR
VERSION:2.0
PRODID:SchoolNow
CALSCALE:GREGORIAN
BEGIN:VEVENT
UID:80095d00-9d53-11ef-be65-0a58a9feac02
DTSTAMP:20250112T170015Z
SUMMARY:Pickle Ball Tournament - Jan. 19th
LOCATION:Tennis Courts
URL;VALUE=URI:https://www.wildernesslakecdd.org/calendar/6978842/pickle-bal
 l-tournament-jan-19th
DTSTART:20250119T160000Z
DTEND:20250119T190000Z
END:VEVENT
END:VCALENDAR
