BEGIN:VCALENDAR
VERSION:2.0
PRODID:SchoolNow
CALSCALE:GREGORIAN
BEGIN:VEVENT
UID:e0e9997e-9d52-11ef-ab6c-0affef277ea9
DTSTAMP:20241107T215435Z
SUMMARY:Country Night - Jan. 18th
LOCATION:Activities Center
URL;VALUE=URI:https://www.wildernesslakecdd.org/calendar/6978841/country-ni
 ght-jan-18th
DTSTART:20250118T220000Z
DTEND:20250119T010000Z
END:VEVENT
END:VCALENDAR
